BEGIN:VCALENDAR
PRODID:-//eluceo/ical//2.0/EN
VERSION:2.0
CALSCALE:GREGORIAN
BEGIN:VEVENT
UID:f71afa5278cf40eed8837592b69dc0f3
DTSTAMP:20260423T223858Z
SUMMARY:Jewish Healthcare Center Board Meeting
DESCRIPTION:Jewish Federation of Central Massachusetts\nCalendar\nhttps://j
 ewishcentralmass.org/calendar/18cal264\n\nJewish Healthcare Center Board M
 eeting
DTSTART;TZID=America/New_York:20180326T193000
DTEND;TZID=America/New_York:20180326T210000
END:VEVENT
END:VCALENDAR
