BEGIN:VCALENDAR
PRODID:-//eluceo/ical//2.0/EN
VERSION:2.0
CALSCALE:GREGORIAN
BEGIN:VEVENT
UID:430b342a47f60e6088811651a5fbe28f
DTSTAMP:20260423T211612Z
SUMMARY:PJ Library @ Beth Tikvah
DESCRIPTION:Jewish Federation of Central Massachusetts\nCalendar\nhttps://j
 ewishcentralmass.org/calendar/18cal263\n\nPJ Library @ Beth Tikvah
DTSTART;TZID=America/New_York:20180325T093000
DTEND;TZID=America/New_York:20180325T110000
END:VEVENT
END:VCALENDAR
