BEGIN:VCALENDAR
PRODID:-//eluceo/ical//2.0/EN
VERSION:2.0
CALSCALE:GREGORIAN
BEGIN:VEVENT
UID:19bef9aab18f79c94b9b542df61c77a8
DTSTAMP:20260421T081538Z
SUMMARY:Congregation Beth Israel Shabbat Plus Wine Tasting
DESCRIPTION:Jewish Federation of Central Massachusetts\nCalendar\nhttps://j
 ewishcentralmass.org/calendar/18cal260\n\nCongregation Beth Israel Shabbat
  Plus Wine Tasting
DTSTART;TZID=America/New_York:20180317T120000
DTEND;TZID=America/New_York:20180317T140000
END:VEVENT
END:VCALENDAR
