BEGIN:VCALENDAR
PRODID:-//eluceo/ical//2.0/EN
VERSION:2.0
CALSCALE:GREGORIAN
BEGIN:VEVENT
UID:6c6b3b33b38ed26230013afdb7f83afe
DTSTAMP:20260423T144003Z
SUMMARY:Congregation Beth Israel Board Meeting
DESCRIPTION:Jewish Federation of Central Massachusetts\nCalendar\nhttps://j
 ewishcentralmass.org/calendar/18cal258\n\nCongregation Beth Israel Board M
 eeting
DTSTART;TZID=America/New_York:20180315T193000
DTEND;TZID=America/New_York:20180315T210000
END:VEVENT
END:VCALENDAR
