BEGIN:VCALENDAR
PRODID:-//eluceo/ical//2.0/EN
VERSION:2.0
CALSCALE:GREGORIAN
BEGIN:VEVENT
UID:f9740bf4efa048ac827265fcdd7c526b
DTSTAMP:20260422T184534Z
SUMMARY:Temple Emanuel Sinai Board Meeting
DESCRIPTION:Jewish Federation of Central Massachusetts\nCalendar\nhttps://j
 ewishcentralmass.org/calendar/18cal256\n\nTemple Emanuel Sinai Board Meeti
 ng
DTSTART;TZID=America/New_York:20180312T193000
DTEND;TZID=America/New_York:20180312T210000
END:VEVENT
END:VCALENDAR
