BEGIN:VCALENDAR
PRODID:-//eluceo/ical//2.0/EN
VERSION:2.0
CALSCALE:GREGORIAN
BEGIN:VEVENT
UID:8942db0675bfdc5ab05efe6adb4262cc
DTSTAMP:20260422T061329Z
SUMMARY:Jewish Federation of Central Mass Life & Legacy Program
DESCRIPTION:Jewish Federation of Central Massachusetts\nCalendar\nhttps://j
 ewishcentralmass.org/calendar/18cal255\n\nJewish Federation of Central Mas
 s Life & Legacy Program
DTSTART;TZID=America/New_York:20180311T180000
DTEND;TZID=America/New_York:20180311T210000
END:VEVENT
END:VCALENDAR
