BEGIN:VCALENDAR
PRODID:-//eluceo/ical//2.0/EN
VERSION:2.0
CALSCALE:GREGORIAN
BEGIN:VEVENT
UID:15f0515430b3a51579dfc21a032a7e97
DTSTAMP:20260422T112951Z
SUMMARY:Jewish Federation of Central Mass Life & Legacy Program
DESCRIPTION:Jewish Federation of Central Massachusetts\nCalendar\nhttps://j
 ewishcentralmass.org/calendar/18cal253\n\nJewish Federation of Central Mas
 s Life & Legacy Program
DTSTART;TZID=America/New_York:20180308T183000
DTEND;TZID=America/New_York:20180308T210000
END:VEVENT
END:VCALENDAR
