BEGIN:VCALENDAR
PRODID:-//eluceo/ical//2.0/EN
VERSION:2.0
CALSCALE:GREGORIAN
BEGIN:VEVENT
UID:6495d5045c3c2a18ae03baef7fb94417
DTSTAMP:20260423T130953Z
SUMMARY:PJ Library @ Beth Israel
DESCRIPTION:Jewish Federation of Central Massachusetts\nCalendar\nhttps://j
 ewishcentralmass.org/calendar/18cal250\n\nPJ Library @ Beth Israel
DTSTART;TZID=America/New_York:20180304T100000
DTEND;TZID=America/New_York:20180304T110000
END:VEVENT
END:VCALENDAR
