BEGIN:VCALENDAR
PRODID:-//eluceo/ical//2.0/EN
VERSION:2.0
CALSCALE:GREGORIAN
BEGIN:VEVENT
UID:706825c88802dde59aaf57c8ecfa65ea
DTSTAMP:20260424T081709Z
SUMMARY:Congregation Beth Israel Purim Event
DESCRIPTION:Jewish Federation of Central Massachusetts\nCalendar\nhttps://j
 ewishcentralmass.org/calendar/18cal248\n\nCongregation Beth Israel Purim E
 vent
DTSTART;TZID=America/New_York:20180301T180000
DTEND;TZID=America/New_York:20180301T200000
END:VEVENT
END:VCALENDAR
