BEGIN:VCALENDAR
PRODID:-//eluceo/ical//2.0/EN
VERSION:2.0
CALSCALE:GREGORIAN
BEGIN:VEVENT
UID:00b11169d0d4cf9dffca3d9a752b8ed9
DTSTAMP:20260423T084538Z
SUMMARY:Congregation B'nai Shalom Executive Board Meeting
DESCRIPTION:Jewish Federation of Central Massachusetts\nCalendar\nhttps://j
 ewishcentralmass.org/calendar/18cal245\n\nCongregation B'nai Shalom Execut
 ive Board Meeting
DTSTART;TZID=America/New_York:20180221T193000
DTEND;TZID=America/New_York:20180221T210000
END:VEVENT
END:VCALENDAR
