BEGIN:VCALENDAR
PRODID:-//eluceo/ical//2.0/EN
VERSION:2.0
CALSCALE:GREGORIAN
BEGIN:VEVENT
UID:f67e9b072748b9c477f57de4211be086
DTSTAMP:20260422T122752Z
SUMMARY:Jewish Federation of Central MA YAD Monthly Shabbat Dinner
DESCRIPTION:Jewish Federation of Central Massachusetts\nCalendar\nhttps://j
 ewishcentralmass.org/calendar/18cal243\n\nJewish Federation of Central MA 
 YAD Monthly Shabbat Dinner
DTSTART;TZID=America/New_York:20180216T190000
DTEND;TZID=America/New_York:20180216T210000
END:VEVENT
END:VCALENDAR
