BEGIN:VCALENDAR
PRODID:-//eluceo/ical//2.0/EN
VERSION:2.0
CALSCALE:GREGORIAN
BEGIN:VEVENT
UID:02406cef86d0402143b1c028f022e216
DTSTAMP:20260422T154455Z
SUMMARY:Temple Emanuel Sinai Board Meeting
DESCRIPTION:Jewish Federation of Central Massachusetts\nCalendar\nhttps://j
 ewishcentralmass.org/calendar/18cal241\n\nTemple Emanuel Sinai Board Meeti
 ng
DTSTART;TZID=America/New_York:20180212T193000
DTEND;TZID=America/New_York:20180212T210000
END:VEVENT
END:VCALENDAR
