BEGIN:VCALENDAR
PRODID:-//eluceo/ical//2.0/EN
VERSION:2.0
CALSCALE:GREGORIAN
BEGIN:VEVENT
UID:bb667291e4b5de6bbaa33153c2434543
DTSTAMP:20260423T060103Z
SUMMARY:PJ Library @ Beth Tikvah
DESCRIPTION:Jewish Federation of Central Massachusetts\nCalendar\nhttps://j
 ewishcentralmass.org/calendar/18cal240\n\nPJ Library @ Beth Tikvah
DTSTART;TZID=America/New_York:20180211T093000
DTEND;TZID=America/New_York:20180211T110000
END:VEVENT
END:VCALENDAR
