BEGIN:VCALENDAR
PRODID:-//eluceo/ical//2.0/EN
VERSION:2.0
CALSCALE:GREGORIAN
BEGIN:VEVENT
UID:78fa88892939a0a3284b34f3d332313b
DTSTAMP:20260421T213103Z
SUMMARY:Jewish Community Center Winter Gala Event
DESCRIPTION:Jewish Federation of Central Massachusetts\nCalendar\nhttps://j
 ewishcentralmass.org/calendar/18cal239\n\nJewish Community Center Winter G
 ala Event
DTSTART;TZID=America/New_York:20180210T180000
DTEND;TZID=America/New_York:20180210T230000
END:VEVENT
END:VCALENDAR
