BEGIN:VCALENDAR
PRODID:-//eluceo/ical//2.0/EN
VERSION:2.0
CALSCALE:GREGORIAN
BEGIN:VEVENT
UID:296394a8fe5b8085acea96f25fc33039
DTSTAMP:20260421T063910Z
SUMMARY:Congregation B'nai Shalom 10th Grade DC Trip
DESCRIPTION:Jewish Federation of Central Massachusetts\nCalendar\nhttps://j
 ewishcentralmass.org/calendar/18cal237\n\nCongregation B'nai Shalom 10th G
 rade DC Trip
DTSTART;TZID=America/New_York:20180209T000100
DTEND;TZID=America/New_York:20180211T235900
END:VEVENT
END:VCALENDAR
