BEGIN:VCALENDAR
PRODID:-//eluceo/ical//2.0/EN
VERSION:2.0
CALSCALE:GREGORIAN
BEGIN:VEVENT
UID:c48573d1a968de135f1721d74b021ad8
DTSTAMP:20260423T064633Z
SUMMARY:Jewish Community Center Board Meeting
DESCRIPTION:Jewish Federation of Central Massachusetts\nCalendar\nhttps://j
 ewishcentralmass.org/calendar/18cal236\n\nJewish Community Center Board Me
 eting
DTSTART;TZID=America/New_York:20180208T193000
DTEND;TZID=America/New_York:20180208T210000
END:VEVENT
END:VCALENDAR
