BEGIN:VCALENDAR
PRODID:-//eluceo/ical//2.0/EN
VERSION:2.0
CALSCALE:GREGORIAN
BEGIN:VEVENT
UID:afa389b76ec2dd30796441bdc37b17d9
DTSTAMP:20260422T100655Z
SUMMARY:Beth Israel Brotherhood Breakfast
DESCRIPTION:Jewish Federation of Central Massachusetts\nCalendar\nhttps://j
 ewishcentralmass.org/calendar/18cal233\n\nBeth Israel Brotherhood Breakfas
 t
DTSTART;TZID=America/New_York:20180204T090000
DTEND;TZID=America/New_York:20180204T110000
END:VEVENT
END:VCALENDAR
