BEGIN:VCALENDAR
PRODID:-//eluceo/ical//2.0/EN
VERSION:2.0
CALSCALE:GREGORIAN
BEGIN:VEVENT
UID:8d3d2d0906ce6d31e05798ac8d1803f1
DTSTAMP:20260422T110150Z
SUMMARY:Congregation Beth Israel World Wide Rap Day
DESCRIPTION:Jewish Federation of Central Massachusetts\nCalendar\nhttps://j
 ewishcentralmass.org/calendar/18cal232\n\nCongregation Beth Israel World W
 ide Rap Day
DTSTART;TZID=America/New_York:20180204T090000
DTEND;TZID=America/New_York:20180204T114500
END:VEVENT
END:VCALENDAR
