BEGIN:VCALENDAR
PRODID:-//eluceo/ical//2.0/EN
VERSION:2.0
CALSCALE:GREGORIAN
BEGIN:VEVENT
UID:b5e8fbda1f9c0a6bc94a7d197d799b55
DTSTAMP:20260422T083939Z
SUMMARY:BT & BI Souper Bowl
DESCRIPTION:Jewish Federation of Central Massachusetts\nCalendar\nhttps://j
 ewishcentralmass.org/calendar/18cal231\n\nBT & BI Souper Bowl
DTSTART;TZID=America/New_York:20180204T090000
DTEND;TZID=America/New_York:20180204T140000
END:VEVENT
END:VCALENDAR
