BEGIN:VCALENDAR
PRODID:-//eluceo/ical//2.0/EN
VERSION:2.0
CALSCALE:GREGORIAN
BEGIN:VEVENT
UID:bd34ab467b561f5e1774b22ef130cb9b
DTSTAMP:20260423T104629Z
SUMMARY:Jewish Federation of Central MA Tu B'Shevat Event
DESCRIPTION:Jewish Federation of Central Massachusetts\nCalendar\nhttps://j
 ewishcentralmass.org/calendar/18cal228\n\nJewish Federation of Central MA 
 Tu B'Shevat Event
DTSTART;TZID=America/New_York:20180131T193000
DTEND;TZID=America/New_York:20180131T210000
END:VEVENT
END:VCALENDAR
