BEGIN:VCALENDAR
PRODID:-//eluceo/ical//2.0/EN
VERSION:2.0
CALSCALE:GREGORIAN
BEGIN:VEVENT
UID:94f17f2444951c931bd9a7630f31156f
DTSTAMP:20260424T051224Z
SUMMARY:Congregation B'nai Shalom Membership Event
DESCRIPTION:Jewish Federation of Central Massachusetts\nCalendar\nhttps://j
 ewishcentralmass.org/calendar/18cal225\n\nCongregation B'nai Shalom Member
 ship Event
DTSTART;TZID=America/New_York:20180128T100000
DTEND;TZID=America/New_York:20180128T120000
END:VEVENT
END:VCALENDAR
