BEGIN:VCALENDAR
PRODID:-//eluceo/ical//2.0/EN
VERSION:2.0
CALSCALE:GREGORIAN
BEGIN:VEVENT
UID:3aeb8ec092e45446d079a5153ce5ccd1
DTSTAMP:20260423T171526Z
SUMMARY:Congregation B'nai Shalom Post Confirmation Trip
DESCRIPTION:Jewish Federation of Central Massachusetts\nCalendar\nhttps://j
 ewishcentralmass.org/calendar/18cal221\n\nCongregation B'nai Shalom Post C
 onfirmation Trip
DTSTART;TZID=America/New_York:20180126T000100
DTEND;TZID=America/New_York:20180127T235900
END:VEVENT
END:VCALENDAR
