BEGIN:VCALENDAR
PRODID:-//eluceo/ical//2.0/EN
VERSION:2.0
CALSCALE:GREGORIAN
BEGIN:VEVENT
UID:e98a472b904cb7d209f57ebaa12b375c
DTSTAMP:20260423T060245Z
SUMMARY:Jewish Community Center Film Festival
DESCRIPTION:Jewish Federation of Central Massachusetts\nCalendar\nhttps://j
 ewishcentralmass.org/calendar/18cal219\n\nJewish Community Center Film Fes
 tival
DTSTART;TZID=America/New_York:20180123T191500
DTEND;TZID=America/New_York:20180123T210000
END:VEVENT
END:VCALENDAR
