BEGIN:VCALENDAR
PRODID:-//eluceo/ical//2.0/EN
VERSION:2.0
CALSCALE:GREGORIAN
BEGIN:VEVENT
UID:fba656d81d4609910ac4c2c2a00bb89a
DTSTAMP:20260423T235355Z
SUMMARY:Beth Israel Brotherhood Breakfast
DESCRIPTION:Jewish Federation of Central Massachusetts\nCalendar\nhttps://j
 ewishcentralmass.org/calendar/18cal216\n\nBeth Israel Brotherhood Breakfas
 t
DTSTART;TZID=America/New_York:20180121T090000
DTEND;TZID=America/New_York:20180121T110000
END:VEVENT
END:VCALENDAR
