BEGIN:VCALENDAR
PRODID:-//eluceo/ical//2.0/EN
VERSION:2.0
CALSCALE:GREGORIAN
BEGIN:VEVENT
UID:b8440291520e6603f60e032616ffb080
DTSTAMP:20260423T033026Z
SUMMARY:Jewish Community Center Film Festival
DESCRIPTION:Jewish Federation of Central Massachusetts\nCalendar\nhttps://j
 ewishcentralmass.org/calendar/18cal215\n\nJewish Community Center Film Fes
 tival
DTSTART;TZID=America/New_York:20180120T193000
DTEND;TZID=America/New_York:20180120T220000
END:VEVENT
END:VCALENDAR
