BEGIN:VCALENDAR
PRODID:-//eluceo/ical//2.0/EN
VERSION:2.0
CALSCALE:GREGORIAN
BEGIN:VEVENT
UID:02cd4c5965674302beba2f04699a5a18
DTSTAMP:20260423T043821Z
SUMMARY:Jewish Federation of Central MA YAD Shabbat
DESCRIPTION:Jewish Federation of Central Massachusetts\nCalendar\nhttps://j
 ewishcentralmass.org/calendar/18cal214\n\nJewish Federation of Central MA 
 YAD Shabbat
DTSTART;TZID=America/New_York:20180119T190000
DTEND;TZID=America/New_York:20180119T210000
END:VEVENT
END:VCALENDAR
