BEGIN:VCALENDAR
PRODID:-//eluceo/ical//2.0/EN
VERSION:2.0
CALSCALE:GREGORIAN
BEGIN:VEVENT
UID:8312c2c171268d618c1bd92f58629b10
DTSTAMP:20260422T234457Z
SUMMARY:Congregation B'nai Shalom Executive Board Meeting
DESCRIPTION:Jewish Federation of Central Massachusetts\nCalendar\nhttps://j
 ewishcentralmass.org/calendar/18cal211\n\nCongregation B'nai Shalom Execut
 ive Board Meeting
DTSTART;TZID=America/New_York:20180117T193000
DTEND;TZID=America/New_York:20180117T210000
END:VEVENT
END:VCALENDAR
