BEGIN:VCALENDAR
PRODID:-//eluceo/ical//2.0/EN
VERSION:2.0
CALSCALE:GREGORIAN
BEGIN:VEVENT
UID:fe2807ee5b1c709a8abee16ef710cf1e
DTSTAMP:20260422T082100Z
SUMMARY:Martin Luther King Day
DESCRIPTION:Jewish Federation of Central Massachusetts\nCalendar\nhttps://j
 ewishcentralmass.org/calendar/18cal210\n\nMartin Luther King Day
DTSTART;TZID=America/New_York:20180115T000100
DTEND;TZID=America/New_York:20180115T235900
END:VEVENT
END:VCALENDAR
