BEGIN:VCALENDAR
PRODID:-//eluceo/ical//2.0/EN
VERSION:2.0
CALSCALE:GREGORIAN
BEGIN:VEVENT
UID:2ef8feeb7d967ccdd47b74b0b55539fb
DTSTAMP:20260423T195931Z
SUMMARY:Beth Tikvah Coffee House
DESCRIPTION:Jewish Federation of Central Massachusetts\nCalendar\nhttps://j
 ewishcentralmass.org/calendar/18cal209\n\nBeth Tikvah Coffee House
DTSTART;TZID=America/New_York:20180113T183000
DTEND;TZID=America/New_York:20180113T230000
END:VEVENT
END:VCALENDAR
