BEGIN:VCALENDAR
PRODID:-//eluceo/ical//2.0/EN
VERSION:2.0
CALSCALE:GREGORIAN
BEGIN:VEVENT
UID:5b74d01df1a2aea29e64958baa663138
DTSTAMP:20260422T233417Z
SUMMARY:New Years
DESCRIPTION:Jewish Federation of Central Massachusetts\nCalendar\nhttps://j
 ewishcentralmass.org/calendar/18cal205\n\nNew Years
DTSTART;TZID=America/New_York:20180101T000100
DTEND;TZID=America/New_York:20180101T235900
END:VEVENT
END:VCALENDAR
