BEGIN:VCALENDAR
PRODID:-//eluceo/ical//2.0/EN
VERSION:2.0
CALSCALE:GREGORIAN
BEGIN:VEVENT
UID:27b8736b66d7fda73a4cca79b55a753d
DTSTAMP:20260424T025834Z
SUMMARY:Temple Emanuel Sinai Dinner/Movie
DESCRIPTION:Jewish Federation of Central Massachusetts\nCalendar\nhttps://j
 ewishcentralmass.org/calendar/18cal204\n\nTemple Emanuel Sinai Dinner/Movi
 e
DTSTART;TZID=America/New_York:20171229T180000
DTEND;TZID=America/New_York:20171229T220000
END:VEVENT
END:VCALENDAR
