BEGIN:VCALENDAR
PRODID:-//eluceo/ical//2.0/EN
VERSION:2.0
CALSCALE:GREGORIAN
BEGIN:VEVENT
UID:0fad95c0e2438c7ee44275319bd924d7
DTSTAMP:20260420T133117Z
SUMMARY:Congregation B'nai Shalom Executive Board Meeting
DESCRIPTION:Jewish Federation of Central Massachusetts\nCalendar\nhttps://j
 ewishcentralmass.org/calendar/18cal201\n\nCongregation B'nai Shalom Execut
 ive Board Meeting
DTSTART;TZID=America/New_York:20171220T193000
DTEND;TZID=America/New_York:20171220T210000
END:VEVENT
END:VCALENDAR
