BEGIN:VCALENDAR
PRODID:-//eluceo/ical//2.0/EN
VERSION:2.0
CALSCALE:GREGORIAN
BEGIN:VEVENT
UID:4fcaa1c0622de9e984436327202c9b33
DTSTAMP:20260422T060943Z
SUMMARY:Jewish Federation of Central MA YAD Hanukkah Party
DESCRIPTION:Jewish Federation of Central Massachusetts\nCalendar\nhttps://j
 ewishcentralmass.org/calendar/18cal200\n\nJewish Federation of Central MA 
 YAD Hanukkah Party
DTSTART;TZID=America/New_York:20171216T183000
DTEND;TZID=America/New_York:20171216T210000
END:VEVENT
END:VCALENDAR
