BEGIN:VCALENDAR
PRODID:-//eluceo/ical//2.0/EN
VERSION:2.0
CALSCALE:GREGORIAN
BEGIN:VEVENT
UID:609a2cba63ca5baed0682d6e05a67480
DTSTAMP:20260422T153852Z
SUMMARY:Congregation Beth Israel Hanukkah Party
DESCRIPTION:Jewish Federation of Central Massachusetts\nCalendar\nhttps://j
 ewishcentralmass.org/calendar/18cal199\n\nCongregation Beth Israel Hanukka
 h Party
DTSTART;TZID=America/New_York:20171216T173000
DTEND;TZID=America/New_York:20171216T210000
END:VEVENT
END:VCALENDAR
