BEGIN:VCALENDAR
PRODID:-//eluceo/ical//2.0/EN
VERSION:2.0
CALSCALE:GREGORIAN
BEGIN:VEVENT
UID:b2b3b82066f5c247bdc04c08aeee72d5
DTSTAMP:20260424T035328Z
SUMMARY:Congregation B'nai Shalom Hanukkah Party
DESCRIPTION:Jewish Federation of Central Massachusetts\nCalendar\nhttps://j
 ewishcentralmass.org/calendar/18cal197\n\nCongregation B'nai Shalom Hanukk
 ah Party
DTSTART;TZID=America/New_York:20171215T180000
DTEND;TZID=America/New_York:20171215T210000
END:VEVENT
END:VCALENDAR
