BEGIN:VCALENDAR
PRODID:-//eluceo/ical//2.0/EN
VERSION:2.0
CALSCALE:GREGORIAN
BEGIN:VEVENT
UID:eb680f32536edc8ac9c0e70e91d2062a
DTSTAMP:20260423T071646Z
SUMMARY:Beth Tikvah Board Meeting & Hanukkah Party
DESCRIPTION:Jewish Federation of Central Massachusetts\nCalendar\nhttps://j
 ewishcentralmass.org/calendar/18cal195\n\nBeth Tikvah Board Meeting & Hanu
 kkah Party
DTSTART;TZID=America/New_York:20171213T190000
DTEND;TZID=America/New_York:20171213T210000
END:VEVENT
END:VCALENDAR
