BEGIN:VCALENDAR
PRODID:-//eluceo/ical//2.0/EN
VERSION:2.0
CALSCALE:GREGORIAN
BEGIN:VEVENT
UID:cf0c755ef9a8c44aa8b4d112470c8900
DTSTAMP:20260423T200738Z
SUMMARY:Hanukkah
DESCRIPTION:Jewish Federation of Central Massachusetts\nCalendar\nhttps://j
 ewishcentralmass.org/calendar/18cal194\n\nHanukkah
DTSTART;TZID=America/New_York:20171213T000100
DTEND;TZID=America/New_York:20171220T235900
END:VEVENT
END:VCALENDAR
