BEGIN:VCALENDAR
PRODID:-//eluceo/ical//2.0/EN
VERSION:2.0
CALSCALE:GREGORIAN
BEGIN:VEVENT
UID:737e1a145e382935a27a6ae6213b079d
DTSTAMP:20260422T135232Z
SUMMARY:Erev Hanukkah
DESCRIPTION:Jewish Federation of Central Massachusetts\nCalendar\nhttps://j
 ewishcentralmass.org/calendar/18cal192\n\nErev Hanukkah
DTSTART;TZID=America/New_York:20171212T000100
DTEND;TZID=America/New_York:20171212T235900
END:VEVENT
END:VCALENDAR
