BEGIN:VCALENDAR
PRODID:-//eluceo/ical//2.0/EN
VERSION:2.0
CALSCALE:GREGORIAN
BEGIN:VEVENT
UID:194c049f25cbad9a8feb26b2b61598e5
DTSTAMP:20260423T031708Z
SUMMARY:Temple Emanuel Sinai Board Meeting
DESCRIPTION:Jewish Federation of Central Massachusetts\nCalendar\nhttps://j
 ewishcentralmass.org/calendar/18cal191\n\nTemple Emanuel Sinai Board Meeti
 ng
DTSTART;TZID=America/New_York:20171211T193000
DTEND;TZID=America/New_York:20171211T210000
END:VEVENT
END:VCALENDAR
