BEGIN:VCALENDAR
PRODID:-//eluceo/ical//2.0/EN
VERSION:2.0
CALSCALE:GREGORIAN
BEGIN:VEVENT
UID:e95b294e889a15989b3285ee062f0395
DTSTAMP:20260423T114022Z
SUMMARY:URJ Bi-Annual in Boston
DESCRIPTION:Jewish Federation of Central Massachusetts\nCalendar\nhttps://j
 ewishcentralmass.org/calendar/18cal188\n\nURJ Bi-Annual in Boston
DTSTART;TZID=America/New_York:20171206T000100
DTEND;TZID=America/New_York:20171210T235900
END:VEVENT
END:VCALENDAR
