BEGIN:VCALENDAR
PRODID:-//eluceo/ical//2.0/EN
VERSION:2.0
CALSCALE:GREGORIAN
BEGIN:VEVENT
UID:a7793ac24ae7c3101c4e6cbabd1b1f48
DTSTAMP:20260424T224336Z
SUMMARY:Congregation B'nai Shalom Member Program
DESCRIPTION:Jewish Federation of Central Massachusetts\nCalendar\nhttps://j
 ewishcentralmass.org/calendar/18cal185\n\nCongregation B'nai Shalom Member
  Program
DTSTART;TZID=America/New_York:20171203T100000
DTEND;TZID=America/New_York:20171203T120000
END:VEVENT
END:VCALENDAR
