BEGIN:VCALENDAR
PRODID:-//eluceo/ical//2.0/EN
VERSION:2.0
CALSCALE:GREGORIAN
BEGIN:VEVENT
UID:3249f95f9d73bb0eca27d0358d87784a
DTSTAMP:20260422T205818Z
SUMMARY:Congregation Beth Israel Board Meeting
DESCRIPTION:Jewish Federation of Central Massachusetts\nCalendar\nhttps://j
 ewishcentralmass.org/calendar/18cal184\n\nCongregation Beth Israel Board M
 eeting
DTSTART;TZID=America/New_York:20171130T193000
DTEND;TZID=America/New_York:20171130T210000
END:VEVENT
END:VCALENDAR
