BEGIN:VCALENDAR
PRODID:-//eluceo/ical//2.0/EN
VERSION:2.0
CALSCALE:GREGORIAN
BEGIN:VEVENT
UID:e10103391eec6071075cb00df25740c0
DTSTAMP:20260423T115934Z
SUMMARY:Thanksgiving
DESCRIPTION:Jewish Federation of Central Massachusetts\nCalendar\nhttps://j
 ewishcentralmass.org/calendar/18cal182\n\nThanksgiving
DTSTART;TZID=America/New_York:20171123T000100
DTEND;TZID=America/New_York:20171123T235900
END:VEVENT
END:VCALENDAR
