BEGIN:VCALENDAR
PRODID:-//eluceo/ical//2.0/EN
VERSION:2.0
CALSCALE:GREGORIAN
BEGIN:VEVENT
UID:9b5902357eb01c1fff58a7f2c734f9ea
DTSTAMP:20260423T183817Z
SUMMARY:PJ Library @ Beth Israel
DESCRIPTION:Jewish Federation of Central Massachusetts\nCalendar\nhttps://j
 ewishcentralmass.org/calendar/18cal181\n\nPJ Library @ Beth Israel
DTSTART;TZID=America/New_York:20171119T100000
DTEND;TZID=America/New_York:20171119T110000
END:VEVENT
END:VCALENDAR
