BEGIN:VCALENDAR
PRODID:-//eluceo/ical//2.0/EN
VERSION:2.0
CALSCALE:GREGORIAN
BEGIN:VEVENT
UID:cebdb6df8e5827e6895752ce696c5eef
DTSTAMP:20260423T235456Z
SUMMARY:Jewish Federation of Central Mass Torathon
DESCRIPTION:Jewish Federation of Central Massachusetts\nCalendar\nhttps://j
 ewishcentralmass.org/calendar/18cal180\n\nJewish Federation of Central Mas
 s Torathon
DTSTART;TZID=America/New_York:20171118T171500
DTEND;TZID=America/New_York:20171118T230000
END:VEVENT
END:VCALENDAR
