BEGIN:VCALENDAR
PRODID:-//eluceo/ical//2.0/EN
VERSION:2.0
CALSCALE:GREGORIAN
BEGIN:VEVENT
UID:91348bbb8abb1102d48758cdd1152b7d
DTSTAMP:20260421T234653Z
SUMMARY:Jewish Community Center Board Meeting
DESCRIPTION:Jewish Federation of Central Massachusetts\nCalendar\nhttps://j
 ewishcentralmass.org/calendar/18cal178\n\nJewish Community Center Board Me
 eting
DTSTART;TZID=America/New_York:20171116T193000
DTEND;TZID=America/New_York:20171116T210000
END:VEVENT
END:VCALENDAR
