BEGIN:VCALENDAR
PRODID:-//eluceo/ical//2.0/EN
VERSION:2.0
CALSCALE:GREGORIAN
BEGIN:VEVENT
UID:f9947fbcfd8f9c9562c70f6d772b2717
DTSTAMP:20260422T044926Z
SUMMARY:Congregation B'nai Shalom Executive Board Meeting
DESCRIPTION:Jewish Federation of Central Massachusetts\nCalendar\nhttps://j
 ewishcentralmass.org/calendar/18cal177\n\nCongregation B'nai Shalom Execut
 ive Board Meeting
DTSTART;TZID=America/New_York:20171115T193000
DTEND;TZID=America/New_York:20171115T210000
END:VEVENT
END:VCALENDAR
