BEGIN:VCALENDAR
PRODID:-//eluceo/ical//2.0/EN
VERSION:2.0
CALSCALE:GREGORIAN
BEGIN:VEVENT
UID:02b9d5825854f05e3526e591e9ae9125
DTSTAMP:20260422T015254Z
SUMMARY:Jewish Healthcare Center President Club Dinner
DESCRIPTION:Jewish Federation of Central Massachusetts\nCalendar\nhttps://j
 ewishcentralmass.org/calendar/18cal176\n\nJewish Healthcare Center Preside
 nt Club Dinner
DTSTART;TZID=America/New_York:20171115T180000
DTEND;TZID=America/New_York:20171115T210000
END:VEVENT
END:VCALENDAR
