BEGIN:VCALENDAR
PRODID:-//eluceo/ical//2.0/EN
VERSION:2.0
CALSCALE:GREGORIAN
BEGIN:VEVENT
UID:bd4b1a65f4bcfa207a82f05f9e91eac5
DTSTAMP:20260422T154203Z
SUMMARY:Temple Emanuel Sinai Board Meeting
DESCRIPTION:Jewish Federation of Central Massachusetts\nCalendar\nhttps://j
 ewishcentralmass.org/calendar/18cal175\n\nTemple Emanuel Sinai Board Meeti
 ng
DTSTART;TZID=America/New_York:20171113T193000
DTEND;TZID=America/New_York:20171113T210000
END:VEVENT
END:VCALENDAR
