BEGIN:VCALENDAR
PRODID:-//eluceo/ical//2.0/EN
VERSION:2.0
CALSCALE:GREGORIAN
BEGIN:VEVENT
UID:756bf95bbb7ff4459eb8ad12e0b5134e
DTSTAMP:20260423T184034Z
SUMMARY:General Assembly
DESCRIPTION:Jewish Federation of Central Massachusetts\nCalendar\nhttps://j
 ewishcentralmass.org/calendar/18cal173\n\nGeneral Assembly
DTSTART;TZID=America/New_York:20171112T000100
DTEND;TZID=America/New_York:20171114T235900
END:VEVENT
END:VCALENDAR
